BEGIN:VCALENDAR
VERSION:2.0
CALSCALE:GREGORIAN
BEGIN:VEVENT
DTSTART;TZID=Europe/Berlin:20221202T160000
DTEND;TZID=Europe/Berlin:20221203T000000
SUMMARY:Wie kommt man mit Spucke und Kleber Dieben auf die Schliche
DESCRIPTION:Wie kommt man mit Spucke und Kleber Dieben auf die Schliche?Dr. Maria Winzi\, LKA Sachsen Jörg Pfeifer\, Hochschule der Sächsischen Polizei RothenburgKinderakademie an der Hochschule\, Hermann-Heitkamp-Haus
END:VEVENT
END:VCALENDAR