BEGIN:VCALENDAR
VERSION:2.0
CALSCALE:GREGORIAN
BEGIN:VEVENT
DTSTART;TZID=Europe/Berlin:20231103T123000
DTEND;TZID=Europe/Berlin:20231104T000000
SUMMARY:Wie können wir die Digitale Transformation meistern?
DESCRIPTION: Neuigkeiten aus Neurowissenschaft\, Physik und Informationstheorie – ein Aufruf zu einem humanen Empowerment.
END:VEVENT
END:VCALENDAR