BEGIN:VCALENDAR
VERSION:2.0
CALSCALE:GREGORIAN
BEGIN:VEVENT
DTSTART;TZID=Europe/Berlin:20230922T190000
DTEND;TZID=Europe/Berlin:20230923T000000
SUMMARY:Werkstattgespräch mit mit der Szenenbilderin und Ausstatterin Sabine Schaaf
DESCRIPTION:Film\: Das Damengambit / Teil 3 und 4 - USA 2020
END:VEVENT
END:VCALENDAR