BEGIN:VCALENDAR
VERSION:2.0
CALSCALE:GREGORIAN
BEGIN:VEVENT
DTSTART;TZID=Europe/Berlin:20230920T190000
DTEND;TZID=Europe/Berlin:20230921T000000
SUMMARY:Werkstattgespräch mit dem Filmproduzenten und Dramaturg Raoul Reinert
DESCRIPTION:Film\: Der ganz grosse Traum - D 2011
END:VEVENT
END:VCALENDAR