BEGIN:VCALENDAR
VERSION:2.0
CALSCALE:GREGORIAN
BEGIN:VEVENT
DTSTART;TZID=Europe/Berlin:20231109T083000
DTEND;TZID=Europe/Berlin:20231110T000000
SUMMARY:vocatium Dresden 2023 - Messe Dresden 04.11.2023
DESCRIPTION:Die HSZG präsentiert sich auf der vocatium 2023 auf der Messe Dresden.Eintritt frei.
END:VEVENT
END:VCALENDAR