BEGIN:VCALENDAR
VERSION:2.0
CALSCALE:GREGORIAN
BEGIN:VEVENT
DTSTART;TZID=Europe/Berlin:20230613T083000
DTEND;TZID=Europe/Berlin:20230614T000000
SUMMARY:vocatium Dresden 2023 - Flughafen Dresden 13.06.2023
DESCRIPTION:
END:VEVENT
END:VCALENDAR