BEGIN:VCALENDAR
VERSION:2.0
CALSCALE:GREGORIAN
BEGIN:VEVENT
DTSTART;TZID=Europe/Berlin:20230720T090000
DTEND;TZID=Europe/Berlin:20230721T000000
SUMMARY:Unternehmerfrühstück\: Technologien für das Handwerk in Zittau – Arbeitserleichterung
DESCRIPTION:
END:VEVENT
END:VCALENDAR