BEGIN:VCALENDAR
VERSION:2.0
CALSCALE:GREGORIAN
BEGIN:VEVENT
DTSTART;TZID=Europe/Berlin:20231102T110000
DTEND;TZID=Europe/Berlin:20231103T000000
SUMMARY:Trilateraler Dialog zur Zukunft der Mobilität
DESCRIPTION:
END:VEVENT
END:VCALENDAR