BEGIN:VCALENDAR
VERSION:2.0
CALSCALE:GREGORIAN
BEGIN:VEVENT
DTSTART;TZID=Europe/Berlin:20221208T140000
DTEND;TZID=Europe/Berlin:20221209T000000
SUMMARY:Treffpunkt Interkulturalität - mit Botschafter der Mongolei
DESCRIPTION:Offene Diskussion über Chancen und Herausforderungen einer interkulturellen Öffnung in der Aula in Görlitz
END:VEVENT
END:VCALENDAR