BEGIN:VCALENDAR
VERSION:2.0
CALSCALE:GREGORIAN
BEGIN:VEVENT
DTSTART;TZID=Europe/Berlin:20240612T140000
DTEND;TZID=Europe/Berlin:20240613T000000
SUMMARY:Toxische Männlichkeit - Aussteigerprogramm für Einsteiger
DESCRIPTION:Ein Workshop über Feminismus für den Mann von heute
END:VEVENT
END:VCALENDAR