BEGIN:VCALENDAR
VERSION:2.0
CALSCALE:GREGORIAN
BEGIN:VEVENT
DTSTART;TZID=Europe/Berlin:20240302T100000
DTEND;TZID=Europe/Berlin:20240303T000000
SUMMARY:Karrieremesse\: StuZubi Leipzig
DESCRIPTION:
END:VEVENT
END:VCALENDAR