BEGIN:VCALENDAR
VERSION:2.0
CALSCALE:GREGORIAN
BEGIN:VEVENT
DTSTART;TZID=Europe/Berlin:20220916T120000
DTEND;TZID=Europe/Berlin:20220917T000000
SUMMARY:Struktur wandel dich – Struktur\, wir wandeln dich!
DESCRIPTION:Mehr Geschlechtergerechtigkeit im Strukturwandel - Eine Konferenz des Bündnisses der Kommunalen Gleichstellungsbeauftragten der Lausitz im Strukturwandel und des Instituts für angewandte Beteiligung (ifab) e. V. 
END:VEVENT
END:VCALENDAR