BEGIN:VCALENDAR
VERSION:2.0
CALSCALE:GREGORIAN
BEGIN:VEVENT
DTSTART;TZID=Europe/Berlin:20240712T170000
DTEND;TZID=Europe/Berlin:20240713T000000
SUMMARY:STAR*PARADE - PITCH No.1
DESCRIPTION:Pitch der Kategorie Studierende &amp; Forschende
END:VEVENT
END:VCALENDAR