BEGIN:VCALENDAR
VERSION:2.0
CALSCALE:GREGORIAN
BEGIN:VEVENT
DTSTART;TZID=Europe/Berlin:20241113T130000
DTEND;TZID=Europe/Berlin:20241114T000000
SUMMARY:Speeddating mit Unternehmen\: Entdecke deine Karrierechancen! (2/3)
DESCRIPTION:Lerne potenzielle Arbeitgeber im Speeddating-Format kennen und entdecke spannende Karrieremöglichkeiten!
END:VEVENT
END:VCALENDAR