BEGIN:VCALENDAR
VERSION:2.0
CALSCALE:GREGORIAN
BEGIN:VEVENT
DTSTART;TZID=Europe/Berlin:20221026T103000
DTEND;TZID=Europe/Berlin:20221027T000000
SUMMARY:Sozialberatung in Görlitz
DESCRIPTION:An jedem vierten Mittwoch im Monat findet\, während des Semesters\, die Sprechzeit statt. Die nächste Gelegenheit für eine Beratung wäre dann wieder am 23. November.
END:VEVENT
END:VCALENDAR