BEGIN:VCALENDAR
VERSION:2.0
CALSCALE:GREGORIAN
BEGIN:VEVENT
DTSTART;TZID=Europe/Berlin:20221124T130000
DTEND;TZID=Europe/Berlin:20221125T000000
SUMMARY:Sorgfalts- und Verkehrssicherungspflichten im Brandschutz als zentrale Führungsaufgabe
DESCRIPTION:
END:VEVENT
END:VCALENDAR