BEGIN:VCALENDAR
VERSION:2.0
CALSCALE:GREGORIAN
BEGIN:VEVENT
DTSTART;TZID=Europe/Berlin:20250115T161500
DTEND;TZID=Europe/Berlin:20250116T000000
SUMMARY:SeniorenKolleg Zittau\: Kriminalwissenschaften gestern und heute
DESCRIPTION:
END:VEVENT
END:VCALENDAR