BEGIN:VCALENDAR
VERSION:2.0
CALSCALE:GREGORIAN
BEGIN:VEVENT
DTSTART;TZID=Europe/Berlin:20250305T161500
DTEND;TZID=Europe/Berlin:20250306T000000
SUMMARY:SeniorenKolleg Zittau\: Aus dem Leben eines Oberbürgermeisters
DESCRIPTION:Probleme und Anekdoten einer sächsischen Kleinstadt nach der Wende
END:VEVENT
END:VCALENDAR