BEGIN:VCALENDAR
VERSION:2.0
CALSCALE:GREGORIAN
BEGIN:VEVENT
DTSTART;TZID=Europe/Berlin:20231101T161500
DTEND;TZID=Europe/Berlin:20231102T000000
SUMMARY:SeniorenKolleg Görlitz\: Aus der Arbeit der Filmakademie Görlitz 
DESCRIPTION:Vortragsveranstaltung in Görlitz
END:VEVENT
END:VCALENDAR