BEGIN:VCALENDAR
VERSION:2.0
CALSCALE:GREGORIAN
BEGIN:VEVENT
DTSTART;TZID=Europe/Berlin:20250129T161500
DTEND;TZID=Europe/Berlin:20250130T000000
SUMMARY:SeniorenKolleg Görlitz\: Aus dem Leben eines Oberbürgermeisters - Probleme und Anekdoten einer sächsischen Kleinstadt nach der Wende
DESCRIPTION:Vortragsveranstaltung in Görlitz
END:VEVENT
END:VCALENDAR