BEGIN:VCALENDAR
VERSION:2.0
CALSCALE:GREGORIAN
BEGIN:VEVENT
DTSTART;TZID=Europe/Berlin:20220629T161500
DTEND;TZID=Europe/Berlin:20220630T000000
SUMMARY:SeniorenKolleg\: Das Umgebindehaus und die Digitalisierung 
DESCRIPTION:Vortragsveranstaltung in Zittau 
END:VEVENT
END:VCALENDAR