BEGIN:VCALENDAR
VERSION:2.0
CALSCALE:GREGORIAN
BEGIN:VEVENT
DTSTART;TZID=Europe/Berlin:20240110T143000
DTEND;TZID=Europe/Berlin:20240111T000000
SUMMARY:Schulung Literaturrecherche und elektronische Medien (HSB Görlitz)
DESCRIPTION:Einführung in die Recherche und Nutzung elektronischer Medien der Hochschulbibliothek
END:VEVENT
END:VCALENDAR