BEGIN:VCALENDAR
VERSION:2.0
CALSCALE:GREGORIAN
BEGIN:VEVENT
DTSTART;TZID=Europe/Berlin:20231129T143000
DTEND;TZID=Europe/Berlin:20231130T000000
SUMMARY:Schulung Literaturrecherche und elektronische Medien
DESCRIPTION:Einführung in die Recherche und Nutzung elektronischer Medien der Hochschulbibliothek
END:VEVENT
END:VCALENDAR