BEGIN:VCALENDAR
VERSION:2.0
CALSCALE:GREGORIAN
BEGIN:VEVENT
DTSTART;TZID=Europe/Berlin:20240625T140000
DTEND;TZID=Europe/Berlin:20240626T000000
SUMMARY:Schulung\: Literaturrecherche mit KI
DESCRIPTION:Veranstaltungsreihe in der Hochschulbibliothek
END:VEVENT
END:VCALENDAR