BEGIN:VCALENDAR
VERSION:2.0
CALSCALE:GREGORIAN
BEGIN:VEVENT
DTSTART;TZID=Europe/Berlin:20240327T140000
DTEND;TZID=Europe/Berlin:20240328T000000
SUMMARY:Schulnetzwerk\: Kollegialer Austausch zum Thema „ChatGPT im Kontext Schule“
DESCRIPTION:Ein Einblick in die Nutzungsmöglichkeiten von ChatGPT im (organisatorischen) Schulalltag.
END:VEVENT
END:VCALENDAR