BEGIN:VCALENDAR
VERSION:2.0
CALSCALE:GREGORIAN
BEGIN:VEVENT
DTSTART;TZID=Europe/Berlin:20240628T104500
DTEND;TZID=Europe/Berlin:20240629T000000
SUMMARY:Abenteuer Weltraum - Session für Schüler*innen
DESCRIPTION:Spannende Einblicke mit Missionsleiter Volker Schmid
END:VEVENT
END:VCALENDAR