BEGIN:VCALENDAR
VERSION:2.0
CALSCALE:GREGORIAN
BEGIN:VEVENT
DTSTART;TZID=Europe/Berlin:20220701T150000
DTEND;TZID=Europe/Berlin:20220702T000000
SUMMARY:Schau mal nach Oben! Warum fliegt ein Flugzeug?
DESCRIPTION:Ein Angebot speziell für Schüler\, die an einem Studium Betriebswirtschaft oder Wirtschaftsingenieurwesen interessiert sind 
END:VEVENT
END:VCALENDAR