BEGIN:VCALENDAR
VERSION:2.0
CALSCALE:GREGORIAN
BEGIN:VEVENT
DTSTART;TZID=Europe/Berlin:20220630T190000
DTEND;TZID=Europe/Berlin:20220701T000000
SUMMARY:Ringvorlesung im Rahmen des Ost-West-Kollegs im Sommersemester 2022 - „Leben an der Grenze“
DESCRIPTION:&quot;Vom Umgang mit Grenzziehungen\: Anerkennung und Abwertung in biographischen Erzählungen älterer Frauen aus Ostdeutschland&quot;hybrid über edudip und am Campus Görlitz\, GI\, Hörsaal 0.01
END:VEVENT
END:VCALENDAR