BEGIN:VCALENDAR
VERSION:2.0
CALSCALE:GREGORIAN
BEGIN:VEVENT
DTSTART;TZID=Europe/Berlin:20220913T190000
DTEND;TZID=Europe/Berlin:20220914T000000
SUMMARY:Rechtspopulismus\, aber normal?
DESCRIPTION:Lesung und Gespräche
END:VEVENT
END:VCALENDAR