BEGIN:VCALENDAR
VERSION:2.0
CALSCALE:GREGORIAN
BEGIN:VEVENT
DTSTART;TZID=Europe/Berlin:20240806T130000
DTEND;TZID=Europe/Berlin:20240807T000000
SUMMARY:Recherchesprechstunde 
DESCRIPTION:Veranstaltungsreihe in der Hochschulbibliothek
END:VEVENT
END:VCALENDAR