BEGIN:VCALENDAR
VERSION:2.0
CALSCALE:GREGORIAN
BEGIN:VEVENT
DTSTART;TZID=Europe/Berlin:20240212T100000
DTEND;TZID=Europe/Berlin:20240213T000000
SUMMARY:Recherche Camp
DESCRIPTION:Praktische Recherchehilfe in der HSB
END:VEVENT
END:VCALENDAR