BEGIN:VCALENDAR
VERSION:2.0
CALSCALE:GREGORIAN
BEGIN:VEVENT
DTSTART;TZID=Europe/Berlin:20220615T140000
DTEND;TZID=Europe/Berlin:20220623T000000
SUMMARY:Psychohygiene für Helferberufe
DESCRIPTION:„Das ist mein Tanzbereich und das ist dein Tanzbereich“(zitiert aus dem Film Dirty Dancing)
END:VEVENT
END:VCALENDAR