BEGIN:VCALENDAR
VERSION:2.0
CALSCALE:GREGORIAN
BEGIN:VEVENT
DTSTART;TZID=Europe/Berlin:20260708T104100
DTEND;TZID=Europe/Berlin:20260726T000000
SUMMARY:Prüfungszeitraum
DESCRIPTION:
END:VEVENT
END:VCALENDAR