BEGIN:VCALENDAR
VERSION:2.0
CALSCALE:GREGORIAN
BEGIN:VEVENT
DTSTART;TZID=Europe/Berlin:20241216T160000
DTEND;TZID=Europe/Berlin:20241217T000000
SUMMARY:Pasta &amp; Projektideen
DESCRIPTION:Austausch rund um die Themen Studium fundamentale\, Orientierungsjahr an der HSZG und innovative digitale Maßnamen für Studierende 
END:VEVENT
END:VCALENDAR