BEGIN:VCALENDAR
VERSION:2.0
CALSCALE:GREGORIAN
BEGIN:VEVENT
DTSTART;TZID=Europe/Berlin:20250130T160000
DTEND;TZID=Europe/Berlin:20250131T000000
SUMMARY:Onlinekurs - Der Gründungsprozess
DESCRIPTION:In dieser Veranstaltung werden Ihnen Wege von einer Idee zum erfolgreichen Geschäftskonzept aufgezeigt.
END:VEVENT
END:VCALENDAR