BEGIN:VCALENDAR
VERSION:2.0
CALSCALE:GREGORIAN
BEGIN:VEVENT
DTSTART;TZID=Europe/Berlin:20220707T190000
DTEND;TZID=Europe/Berlin:20220708T000000
SUMMARY:Online Studieninformationsabend für Eltern und Schulen
DESCRIPTION:Ihr Kind möchte studieren und Sie haben Fragen? Hier bekommen Sie Antworten!
END:VEVENT
END:VCALENDAR