BEGIN:VCALENDAR
VERSION:2.0
CALSCALE:GREGORIAN
BEGIN:VEVENT
DTSTART;TZID=Europe/Berlin:20240619T183000
DTEND;TZID=Europe/Berlin:20240620T000000
SUMMARY:Online Hochschulinfoabend
DESCRIPTION:
END:VEVENT
END:VCALENDAR