BEGIN:VCALENDAR
VERSION:2.0
CALSCALE:GREGORIAN
BEGIN:VEVENT
DTSTART;TZID=Europe/Berlin:20221122T170000
DTEND;TZID=Europe/Berlin:20221123T000000
SUMMARY:NETZ-WERK-STATT für Gründer und junge Unternehmer
DESCRIPTION:Des Deutschen Angst vor dem Scheitern 
END:VEVENT
END:VCALENDAR