BEGIN:VCALENDAR
VERSION:2.0
CALSCALE:GREGORIAN
BEGIN:VEVENT
DTSTART;TZID=Europe/Berlin:20220928T140000
DTEND;TZID=Europe/Berlin:20220929T000000
SUMMARY:„Naturschutz\, Umweltbildung und Forstwirtschaft in der Oberlausitz“
DESCRIPTION:Fach(nachmit)tag im Vorfeld des 23. Sächsischen Landeserntedankfestes
END:VEVENT
END:VCALENDAR