BEGIN:VCALENDAR
VERSION:2.0
CALSCALE:GREGORIAN
BEGIN:VEVENT
DTSTART;TZID=Europe/Berlin:20220712T083000
DTEND;TZID=Europe/Berlin:20220714T000000
SUMMARY:Messe VOCATIUM | Nürnberg
DESCRIPTION:
END:VEVENT
END:VCALENDAR