BEGIN:VCALENDAR
VERSION:2.0
CALSCALE:GREGORIAN
BEGIN:VEVENT
DTSTART;TZID=Europe/Berlin:20240605T130000
DTEND;TZID=Europe/Berlin:20240606T000000
SUMMARY:Literaturverwaltung mit Citavi 
DESCRIPTION:Online-Einführung am dies academicus 
END:VEVENT
END:VCALENDAR