BEGIN:VCALENDAR
VERSION:2.0
CALSCALE:GREGORIAN
BEGIN:VEVENT
DTSTART;TZID=Europe/Berlin:20260825T104300
DTEND;TZID=Europe/Berlin:20260826T000000
SUMMARY:Letzter Termin Notenmeldung
DESCRIPTION:
END:VEVENT
END:VCALENDAR