BEGIN:VCALENDAR
VERSION:2.0
CALSCALE:GREGORIAN
BEGIN:VEVENT
DTSTART;TZID=Europe/Berlin:20261005T105300
DTEND;TZID=Europe/Berlin:20261006T000000
SUMMARY:Lehrveranstaltungsbeginn (voraussichtlich)
DESCRIPTION:
END:VEVENT
END:VCALENDAR