BEGIN:VCALENDAR
VERSION:2.0
CALSCALE:GREGORIAN
BEGIN:VEVENT
DTSTART;TZID=Europe/Berlin:20230928T140000
DTEND;TZID=Europe/Berlin:20230929T000000
SUMMARY:Lehren und Lernen mit Augmented und Virtual Reality geht das überhaupt? Chancen und Herausforderungen zur Visualisierung\, Anleitung und Interaktion in der Hochschullehre
DESCRIPTION:Im ersten Teil des Präsenz-Kurzworkshops werden Ihnen Good Practice vorgestellt\, in denen Augmented und Virtual Reality (AR/VR) im Rahmen der Hochschullehre konzipiert und eingesetzt wurden. Der zweite Teil bietet Ihnen die Möglichkeit\, diese Technologien auszuprobieren und auszuloten\, wie Sie diese didaktisch sinnvoll in die eigene Lehre integrieren können.
END:VEVENT
END:VCALENDAR