BEGIN:VCALENDAR
VERSION:2.0
CALSCALE:GREGORIAN
BEGIN:VEVENT
DTSTART;TZID=Europe/Berlin:20230704T140000
DTEND;TZID=Europe/Berlin:20230705T000000
SUMMARY:Labordidaktik
DESCRIPTION:Das Weiterbildungsangebot behandelt die verschiedenen didaktischen Funktionen und Gestaltungsansätze für Experimente in der Ingenieurausbildung\, einschließlich der Einbindung in die Erkenntnisfindung und Identifikation von Anforderungen.
END:VEVENT
END:VCALENDAR