BEGIN:VCALENDAR
VERSION:2.0
CALSCALE:GREGORIAN
BEGIN:VEVENT
DTSTART;TZID=Europe/Berlin:20241129T090000
DTEND;TZID=Europe/Berlin:20241130T000000
SUMMARY:Konfliktmanagement in der Lehre\: Erkennen\, Deeskalieren und Bewältigen
DESCRIPTION:
END:VEVENT
END:VCALENDAR