BEGIN:VCALENDAR
VERSION:2.0
CALSCALE:GREGORIAN
BEGIN:VEVENT
DTSTART;TZID=Europe/Berlin:20240321T090000
DTEND;TZID=Europe/Berlin:20240322T000000
SUMMARY:Online Workshop – Bedarfe\, Potenziale und Softwarelösungen zur kommunalen Wärmeplanung
DESCRIPTION:Im Rahmen der von der Hochschule Zittau/Görlitz und der SAENA GmbH (Sächsische Energieagentur) gemeinsam organisierten Veranstaltung bringen wir Vertreter von Kommunen\, Energieversorgern\, Planungsbüros\, Anbieter von Softwarelösungen und Forschungseinrichtungen zusammen.
END:VEVENT
END:VCALENDAR