BEGIN:VCALENDAR
VERSION:2.0
CALSCALE:GREGORIAN
BEGIN:VEVENT
DTSTART;TZID=Europe/Berlin:20240301T150000
DTEND;TZID=Europe/Berlin:20240303T000000
SUMMARY:Fällt wg. Krankheit aus! Kinderakademie Zittau\: Granit – ein Schatz unserer Oberlausitz
DESCRIPTION:
END:VEVENT
END:VCALENDAR