BEGIN:VCALENDAR
VERSION:2.0
CALSCALE:GREGORIAN
BEGIN:VEVENT
DTSTART;TZID=Europe/Berlin:20250124T090000
DTEND;TZID=Europe/Berlin:20250125T000000
SUMMARY:Karrieremesse\: Karrierestart
DESCRIPTION:
END:VEVENT
END:VCALENDAR