BEGIN:VCALENDAR
VERSION:2.0
CALSCALE:GREGORIAN
BEGIN:VEVENT
DTSTART;TZID=Europe/Berlin:20241112T093200
DTEND;TZID=Europe/Berlin:20241115T000000
SUMMARY:Im Alter unabhängig wohnen durch moderne Technik
DESCRIPTION:In Kooperation mit dem GAT-Institut der HSZG finden vom 20. bis 22.08. Schnuppertage für Interessierte in einer &quot;mitalternden Wohnung&quot; statt.
END:VEVENT
END:VCALENDAR